Workbook
Name bedrooms: Application!$CB$159:$CH$159
Name bedrooms: Application!$CB$159:$CH$159
Name HudFmrs: Application!$BX$656:$CB$713
Name HudFmrs: Application!$CJ$160:$CN$217
Name ListofSources: Application!$BN$511:$BN$536
Name ListofSources: Application!$BN$520:$BN$545
Name TC_Rent: Application!$CB$159:$CH$217
Name TC_Rent: Application!$CB$159:$CH$217
Name TcacRents: Application!$BQ$656:$BV$713
Name TcacRents: Application!$CC$160:$CH$217
Name UnitSizes: Application!$BA$595:$BA$600
Name UnitSizes: Application!$AZ$717:$AZ$722

Sheet Instructions-App Completion 
A1: I. INSTRUCTIONS - SECTION 1: INSTRUCTIONS
B4: I | C4: Instructions
C6: A | D6: Overview
D7: The Electronic California Tax Credit Allocation Committee (CTCAC) Application was designed to enhance consistency of information, increase efficiency in the application process, and reduce the amount of paperwork required for a CTCAC tax credit application.
D11: Joint CDLAC-CTCAC Applications: All joint CDLAC-CTCAC applicants are required to submit the application, current year CTCAC attachment forms, and all supporting documentation in electronic format through the CDLAC online application.
D15: The application fee is $1,500, except for scattered site and resyndication applications, in which case the application fee is $1,700. Payment can be made in the form of a check payable to CTCAC mailed to: 915 Capitol Mall, Suite 280, Sacramento, CA 95814
D18: or paid online at: | J18: https://www.treasurer.ca.gov/ctcac/payment.asp
D20: Only the signed applicant statement may be submitted in hardcopy format; for all other application materials, no paper documentation will be accepted. CTCAC will accept a signed applicant statement (pages 1-3 of the Application sheet) in either hardcopy format or PDF. All other application materials must be submitted in electronic format. Instructions for a complete electronic submission are found under Instructions-Electronic Submit. We encourage you to provide suggestions based on your experiences in preparing the application. In that way, CTCAC can build upon and improve the process of completing a tax credit application.
D30: Refer to the CTCAC website for more complete filing instructions:
E31: https://www.treasurer.ca.gov/ctcac/2026/4-instructions.asp
D33: Please contact Sarah.Gullikson@treasurer.ca.gov if you find any errors in the electronic application. For general application questions, please contact the regional analyst.
E35: http://www.treasurer.ca.gov/ctcac/assignments.asp
E36: http://www.treasurer.ca.gov/ctcac/contacts.asp
C38: B | D38: Application General Information
D39: 1) | E39: Instructions for preparing the electronic version
E40: a) | F40: Many of the required calculations in the application are automatically performed by the spreadsheet program.
F42: (i) | G42: Use this spreadsheet with Microsoft Excel 97 or above.
E43: b) | F43: Joint Applications: Applicants must submit the joint application including this Excel file using the CDLAC online application portal. Non-Joint Applications: Applicants must submit the application on a flash drive.
F46: (i) | G46: CTCAC cannot accept applications submitted via e-mail.
F47: (ii) | G47: It is recommended that a back-up copy of the application be created for future use.
E48: c) | F48: DO NOT UNPROTECT OR UNLOCK CELLS in the spreadsheet. CTCAC will verify formulas and data and will scan for viruses upon receipt. Any tampering may result in disqualification of the application.
D52: 2) | E52: Submission Requirements
E53: a) | F53: Applicants must submit:
F54: (i) | G54: ONE COMPLETE APPLICATION, SUBMITTED ONLINE THROUGH THE CDLAC WEBSITE
G55: FOR JOINT APPLICATIONS
G56: or
F57: (ii) | G57: An ELECTRONIC VERSION OF THE APPLICATION IN THE FORM OF A USB FLASH DRIVE TO CTCAC FOR NON-JOINT APPLICATIONS.
G59: THE APPLICATION MUST BE SIGNED.
D61: 3) | E61: General Instructions
E62: The electronic version is partitioned into the following categories:
E63: a) | F63: Instructions
F64: (i) | G64: This section provides overall guidance for the preparation of the electronic version. Each Attachment to the application contains detailed, specific instructions for that particular attachment.
F67: (ii) | G67: The electronic version is prepared using an Excel format. The application is divided into separate worksheets. To access a desired section of the application, simply click on the worksheet tab.
E69: b) | F69: Application
F70: (i) | G70: The application was designed to eliminate as many of the calculations as possible using the information provided by the applicant.
F72: (ii) | G72: All highlighted areas must be completed by the applicant. You may scroll through the highlighted cells by clicking the Tab button on your keyboard.
G74: Certain areas, when selected, will only allow the applicant to respond to the
G75: choices provided in the "pull-down" menu for that item.
F76: (iii) | G76: All applicable cells must be completed by the applicant.
G77: a. | H77: For those numbered amounts that are not applicable, insert a "0" (zero).
...

Sheet Instructions-Electronic Submit
A1: NOT APPLICABLE TO JOINT APPLICATIONS WHEN THE ONLINE APPLICATION IS REQUIRED
A2: Attachments – Electronic Submission Guide
A4: Applicants submit all application materials electronically on a USB flash drive unless the CDLAC online application is active. CDLAC and CTCAC will not accept submissions of application documents by email or over the internet.
A8: Attachments may be completed and signed using electronic format utilizing electronic signatures.
A10: When compiling the flash drive, it is requested that applicants order folders according to the Application Checklist. The Electronic Application MUST be an Excel file, be labeled with the project name, and specify “E-Application.” For the attachments, if the same document appears under more than one tab, please include the document in the first of the tabs. Please also include a one-page pdf document in the later tabs in place of the document itself, cross-referencing the tab under which the actual document is located. If a TAB is not applicable to the project, either remove the folder entirely or mark “- NA” in the folder name:
A17: Please do not create multiple "N/A" PDF sheets or folders within folders unnecessarily for non-applicable items.
A19: Please refer to the following visual as a guide:
A76: Under each folder, name each file according to the tab and the name of the document as described on the Application Checklist. All copies of documents must be legible with reasonably-sized font and, when applicable, clear signatures and dates. PDF’s should be searchable whenever possible.
A80: Please refer to the following visual as a guide:
A89: If you have questions, please contact your regional analyst via email:
A90: http://www.treasurer.ca.gov/CTCAC/assignments.asp
A91: http://www.treasurer.ca.gov/CTCAC/contacts.asp
A92: http://www.treasurer.ca.gov/cdlac/contacts.asp

Sheet Application Checklist
A2: 2026 CDLAC-CTCAC JOINT APPLICATION CHECKLIST
A3: TAX-EXEMPT BOND FINANCED PROJECTS WITH LOW-INCOME HOUSING TAX CREDITS
A6: Please do not rely solely on this checklist when completing your application. Please verify that all requirements in the regulations have been met.
A9: TAB 1 Site Control and Land Cost
D11: Demonstrate Site Control (Part II - Application - Section 5 - C) and Land Cost (Sources and Uses Budget)
D13: Reg. §§ 10325(f)(2), 10322(h)(9), 10327(c)(6)
B15: Provided | D15: Include a summary explanation of the site control and value(s); especially for applications with multiple or non-contiguous parcels, scattered sites, lot line adjustments, phased projects, or other complex land transactions. Provide:
E18: Attachments - Exhibit A: Site Control tabs
B20: Provided | D20: A current title report (within 90 days of application) including a legal description. Include reports for all parcels listed on:
E22: Attachments - Exhibit A: Parcels tab
B24: Not Applicable | D24: For tribal trust land, a title status report (TSR) or an attorney's opinion regarding chain of title and current title status.
B27: Provided | D27: All applications must include evidence of the cost or value of land and improvements. Provide sales agreement, purchase contract, or escrow closing statement as applicable and required by CTCAC Regulations. See Reg. §§10327(c)(6) and10325(f)(2). Provide an appraisal if required by CTCAC Regulation. See Reg. §§ 10325(c)(1)(C), 10325(c)(10), 10327(c)(6), and 10322(h)(9).
B33: Not Applicable | D33: If the site or improvement acquisition involves a related party, the applicant shall disclose the relationship in the CTCAC application.
B36: Not Applicable | D36: Appraisals are required for: ● all rehabilitation applications except as noted in Regulation § 10322(h)(9)(A), and ● all new construction applications involving a land sale from a related party. Note: Appraisals shall not include the value of favorable financing.
B41: Not Applicable | D41: Note: For purposes of the above paragraph only, a purchase contract or sale with a related party shall be deemed to be a purchase contract or sale with an unrelated party if the applicant demonstrates that the related party is acting solely as a pass-through entity and the tax credit partnership is only paying the acquisition price from the last arms-length transaction, plus any applicable and reasonable carrying costs.
B47: Not Applicable | D47: New construction appraisals. If an appraisal is required, provide an “as-is” appraisal with a date of value that is within 120 days before or after the execution of a purchase contract or the transfer of ownership by all the parties, or within 1 year of the application date if the latest purchase contract was executed within that year, by an independent third party appraiser.
B52: Not Applicable | D52: Rehabilitation appraisals. Except as noted in Reg. § 10322(h)(9)(A), an “as-is” appraisal prepared within 120 days before or after the execution of a purchase contract or the transfer of ownership by all the parties, by an independent third party appraiser.
B56: Provided | D56: Applicants must provide evidence that the property is within control of the application. May be evidenced by one of the options listed in Reg. § 10325(f)(2).
D58: Provide details on:
E59: Attachments - Exhibit A: Site Control tabs
B61: Not Applicable | D61: Projects with a lease. Provide an executed lease agreement or lease option for the length of time the project will be regulated under this program connecting the applicant and the owner of the subject property.
B65: Not Applicable | D65: Projects with a disposition and development agreement (DDA). Provide an executed DDA connecting the applicant and the public agency.
B68: Provided | D68: Projects with a purchase agreement or option. Provide a valid, current, enforceable contingent purchase and sale agreement or option agreement connecting the applicant and the owner of the subject property.
B72: Provided | D72: Evidence that all extensions and other conditions necessary to keep the agreement current through the application filing deadline have been executed
A75: TAB 2 Financial Feasibility
D77: Financial Feasibility (Part III - Application - Sections 1-4; Part IV)
D78: Reg. §§ 10325(f)(5), 10326(g)(4), 10327(c), and 10322(h)(16)
B80: Provided | D80: Financing plan Include sufficient detail outlining construction and permanent financing structures, bridge loan sources, and other fund sources, including rent subsidies, operating subsidies, and reserves. ● Projects with existing debt must document the remaining principal balances of existing loans, and indicate whether the debt will be repaid or transferred to the new partnership. Accrued interest must also be documented, and may be estimated as of the application date or as of the expected date of the permanent financing close. Reg. §10322(h)(16)
B89: Provided | D89: Provide a brief description of the bond sale structure, followed by commitment(s) on letterhead for credit enhancement or private placement bond purchase.
B92: Provided | D92: Submit proof of all firm commitment(s) from credit enhancement provider(s) and private placement bond purchaser(s). For FHA financed projects not seeking a CDLAC Forward Commitment, a HUD Acknowledgement Letter must be included.
B96: Provided | D96: Provide information on the disposition of current outstanding liens: lender/loan, amount, disposition, corresponding exception number from title.
E98: Attachments - Exhibit A: Site Control tabs, Current Outstanding Liens section
B100: Not Applicable | D100: A waiver request of the Bond Sale Structure restrictions associated with a prior Bond Default or bankruptcy.
B103: Not Applicable | D103: If the purchase price exceeds appraised value (overage): ● Provide an explanation of the higher purchase price. If not an arm's length transaction, must demonstrate that the seller is not benefiting from the higher purchase price. ● Application/Section 5C Purchase Information: input the overage amount of purchase price in excess of the appraised value. If any SOFT permanent financing is paying for the overage, input the amount. The SOFT permanent financing amount paying for the overage will be reduced from the Permanent Financing within the shortfall calculation section of the Basis and Credit tab. Sources and Uses Budget: bifurcate the purchase price and separately list the overage amount in Row 15 Excess Purchase Price Over Appraisal. Note that the overage amount may not be carried in basis. ● Basis and Credits: the Total Project Cost will be automatically reduced by the overage amount. For all other purposes, the project cost will include the overage amount. Reg. §10327(c)(6)
B119: Not Applicable | D119: The Executive Director may approve a waiver to underwrite the project with a purchase price in excess of the appraised value where: (i) a local governmental entity is purchasing, or providing funds for the purchase of land for more than its appraised value in a designated revitalization area when the local governmental entity has determined that the higher cost is justified, or (ii) the purchase price does not exceed the sum of third party debt encumbering the property that will be assumed or paid off. Reg. §10327(c)(6)
B128: Provided | D128: CTCAC developer fee limitations and deferral / equity contribution requirements: confirm project complies with the CTCAC limits per Reg. Section 10327(c)(2)(B).
B131: Not Applicable | D131: Developer fee limitations Provide a description of the limitations on developer fee required by any other funding source. Include any necessary explanation for how the Sources and Uses Budget's Total Developer Costs meet these requirements. Attach an excerpt of any funding source's written requirements (regulations, contracts, commitments, etc.) for developer fees.
B137: Provided | D137: Utility Allowance Estimates accompanied by: (i) a letter from the public housing authority, or (ii) an energy consumption model estimate calculated using the most recent version of the California Utility Allowance Calculator (CUAC) developed by the California Energy Commission (CEC): (a) for new construction or adaptive reuse, solar values must be determined from the CEC's Photovoltaic Calculator; (b) for existing residential buildings, solar values may determined from the CEC’s Photovoltaic Calculator or the Expected Performance Based Buydown (EPBB) calculator with monthly scalars to be determined by CTCAC. Indicate which components of the utility allowance schedule apply to the project. Reg. § 10322(h)(21)
B151: Not Applicable | D151: Use of CUAC is limited to: (i) new construction projects, (ii) rehabilitation projects applying for tax credits for which the rehabilitation improves energy efficiency by at least 20%, as determined consistent with the requirements of Reg. §§ 10325(c)(5)(D) and (G), or installs solar generation that offsets 50% of tenant loads, as determined consistent with the requirements of Reg. § 10325(c)(5)(G), and (iii) existing tax credit projects with new photovoltaics installed through the Multifamily Affordable Solar Housing (MASH) program or a solar program administered by a municipal utility or joint powers authority, which offsets tenants’ electrical load. CUAC documentation must be signed by a qualified CABEC CEA. Must also include CUAC supporting documentation: (i) Weighted Averaging worksheet; or (ii) Adiabatic Surfaces worksheet Note: except for existing tax credit projects with active MASH program reservations dated prior to March 1, 2018, any decrease in tenant’s utility allowance that results from conversion to the CUAC shall not exceed $15 per month over any 12-month period. Reg. § 10322(h)(21)
D169: https://www.treasurer.ca.gov/CTCAC/cuac/index.asp
...

Sheet Application
AS1: 4 | BD1: CDLAC_Data
BD2: Key | BE2: Value | BF2: Notes
BD3: CDLAC Region | BE3: =AC220 -> Coastal (Monterey, Napa, Orange, San Benito, San Diego, San Luis Obispo, Santa Barbara, Sonoma, and Ventura Counties)
BD4: Pool
BD5: 20% AMI Units | BE5: =SUMIF($AC$726:$AC$760,"<=20%",$G$726:G$760) -> 0 | BF5: includes all units below 20% AMI, if any
BD6: 25% AMI Units | BE6: =SUMIF($AC$726:$AC$760,"<=25%",$G$726:G$760)-SUM($BE$5:BE5) -> 0
BD7: 30% AMI Units | BE7: =SUMIF($AC$726:$AC$760,"<=30%",$G$726:G$760)-SUM($BE$5:BE6) -> 11
A8: CALIFORNIA TAX CREDIT ALLOCATION COMMITTEE | BD8: 35% AMI Units | BE8: =SUMIF($AC$726:$AC$760,"<=35%",$G$726:G$760)-SUM($BE$5:BE7) -> 0
A9: ATTACHMENT 40 FOR CDLAC-CTCAC JOINT APPLICATION | BD9: 40% AMI Units | BE9: =SUMIF($AC$726:$AC$760,"<=40%",$G$726:G$760)-SUM($BE$5:BE8) -> 0
A10: 2026 4% FEDERAL LOW-INCOME HOUSING TAX CREDITS WITH TAX-EXEMPT BONDS | BD10: 45% AMI Unis | BE10: =SUMIF($AC$726:$AC$760,"<=45%",$G$726:G$760)-SUM($BE$5:BE9) -> 0
A11: INCLUDING STATE CREDITS | BD11: 50% AMI Units | BE11: =SUMIF($AC$726:$AC$760,"<=50%",$G$726:G$760)-SUM($BE$5:BE10) -> 11
A12: June 19, 2026 Version | BD12: 55% AMI Units | BE12: =SUMIF($AC$726:$AC$760,"<=55%",$G$726:G$760)-SUM($BE$5:BE11) -> 0
A13: II. APPLICATION - SECTION 1: CTCAC APPLICANT STATEMENT AND CERTIFICATION | BD13: 60% AMI Units | BE13: =SUMIF($AC$726:$AC$760,"<=60%",$G$726:G$760)-SUM($BE$5:BE12) -> 42
BD14: 70% AMI Units | BE14: =SUMIF($AC$726:$AC$760,"<=70%",$G$726:G$760)-SUM($BE$5:BE13) -> 43
BD15: 80% AMI Units | BE15: =SUMIF($AC$726:$AC$760,"<=80%",$G$726:G$760)-SUM($BE$5:BE14) -> 0
A16: CTCAC APPLICANT: | H16: National City Pacific Associates II, LP | BD16: Project Name | BE16: =Application!H18 -> Euclid Avenue Apartments
BD17: MIP Amount | BE17: =Application!AA943 -> 0
A18: PROJECT NAME: | H18: Euclid Avenue Apartments | BD18: CalHFA MIP Loan | BE18: =AA943 -> 0
BD19: Annual Federal Request | BE19: =Application!M26 -> 2592503
A20: PLEASE INCLUDE APPLICATION FEE WITH APPLICATION SUBMISSION | BD20: State Credit Request | BE20: =Application!M27 -> 0
A21: Check Only | BD21: Construction Bond Tax-Exempt | BE21: =Application!AM562 -> 14900000
BD22: Total Project Cost | BE22: ='Sources and Uses Budget'!B105 -> 55906573 | BF22: Residential & Commercial
A23: The undersigned CTCAC Applicant hereby makes application to the California Tax Credit Allocation Committee (“CTCAC”) for a reservation of Federal and State Low-Income Housing Tax Credits (“Credits”) in the amount(s) of: | BD23: Total Land Cost | BE23: ='Sources and Uses Budget'!B4 -> 4500000
BD24: Square Footage Of Structures | BE24: =Application!AG459 -> 126864
BD25: Federal Set Aside | BE25: =Application!D208 -> 40%/60% Average Income
M26: ='Basis & Credits'!AB56 -> 2592503 | R26: annual Federal Credits | BD26: Adaptive Reuse | BE26: =Application!M365="Yes" -> FALSE
M27: ='Basis & Credits'!AB78 -> 0 | R27: total State Credits | BD27: New Construction | BE27: =Application!M364="Yes" -> TRUE
BD28: Rehabilitation | BE28: =Application!M366="Yes" -> FALSE
A29: for the purpose of providing low-income rental housing as herein described. I understand that Credit amount preliminarily reserved for this project, if any, may be adjusted over time based upon changing project costs and financial feasibility analyses which CTCAC is required to perform on at least three occasions. | BD29: Acq and Rehabilitation | BE29: =Application!M367="Yes" -> FALSE
BD30: Demolition | BE30: =Application!AJ364="Yes" -> FALSE
BD31: Housing Type | BE31: =Application!D211 -> Non-Targeted
BD32: Units For Homeless Individuals | BE32: =IF(ISNUMBER(Application!W473),W473,0) -> 0
A33: Election to sell ("certificate') state credits: | O33: No | Q33: By selecting "Yes" or "No" in the box immediately before, I hereby make an election to | BD33: CTCAC Region | BE33: =Application!D220 -> San Diego County
A34: sell ("certificate") or not sell all or any portion of the state credit, as allowed pursuant to Revenue and Taxation Code Sections 12206(o), 17058(q), and 23610.5(r). I further certify that the applicant is a non-profit entity, and that the state credit price will not be less than eighty (80) cents per dollar of credit. I acknowledge that if I elect to sell ("certificate") all or any portion of the state credit, I may, only once, revoke an election to sell at any time before CTCAC issues the Form(s) 3521A for the project. | BD34: Project Address | BE34: =Application!I185 -> 2400 Euclid Avenue
BD35: Project Address Description | BE35: =IF(Application!E187="","",Application!E187)
BD36: Project City | BE36: =Application!I189 -> National City
BD37: Project County | BE37: =Application!T189 -> San Diego
BD38: Project Zip | BE38: =Application!I190 -> 91950
A39: I agree it is my responsibility to provide CTCAC with the original complete application as well as such other information as CTCAC requests as necessary to evaluate my application. I represent that if a reservation or allocation of Credit is made as a result of this application, I will also furnish promptly such other supporting information and documents as may be requested. I understand that CTCAC may verify information provided and analyze materials submitted as well as conduct its own investigation to evaluate the application. I recognize that I have an affirmative duty to inform CTCAC when any information in the application or supplemental materials is no longer true and to supply CTCAC with the latest and accurate information. | BD39: Total Units | BE39: =Application!AG446 -> 108
BD40: Low Income Units | BE40: =Application!AG449 -> 107
...

Sheet Sources and Uses Budget
A1: IV. SOURCES AND USES BUDGET - SECTION 1: SOURCES AND USES BUDGET | F1: Permanent Sources
B2: TOTAL PROJECT COST | C2: RES. COST | D2: COM'L. COST | E2: TAX CREDIT EQUITY | F2: =Application!B635&Application!C635 -> 1)Citibank, N.A. | G2: =Application!B636&Application!C636 -> 2)Bonneville Multifamily Capital | H2: =Application!B637&Application!C637 -> 3)Pacific West Communities, Inc. | I2: =Application!B638&Application!C638 -> 4) | J2: =Application!B639&Application!C639 -> 5) | K2: =Application!B640&Application!C640 -> 6) | L2: =Application!B641&Application!C641 -> 7) | M2: =Application!B642&Application!C642 -> 8) | N2: =Application!B643&Application!C643 -> 9) | O2: =Application!B644&Application!C644 -> 10) | P2: =Application!B645&Application!C645 -> 11) | Q2: =Application!B646&Application!C646 -> 12) | R2: SUBTOTAL | S2: 30% PVC for New Const/Rehab | T2: 30% PVC for Acquisition
A3: LAND COST/ACQUISITION
A4: Land Cost or Value | B4: =SUM(C4+D4) -> 4500000 | C4: 4500000 | E4: 4500000 | R4: =SUM(E4:Q4) -> 4500000
A5: Demolition | B5: =SUM(C5+D5) -> 0 | R5: =SUM(E5:Q5) -> 0
A6: Legal | B6: =SUM(C6+D6) -> 5000 | C6: 5000 | E6: 5000 | R6: =SUM(E6:Q6) -> 5000
A7: Land Lease Rent Prepayment | B7: =SUM(C7+D7) -> 0 | R7: =SUM(E7:Q7) -> 0
A8: Total Land Cost or Value | B8: =SUM(C8:D8) -> 4505000 | C8: =SUM(C4:C7) -> 4505000 | D8: =SUM(D4:D7) -> 0 | E8: =SUM(E4:E7) -> 4505000 | F8: =SUM(F4:F7) -> 0 | G8: =SUM(G4:G7) -> 0 | H8: =SUM(H4:H7) -> 0 | I8: =SUM(I4:I7) -> 0 | J8: =SUM(J4:J7) -> 0 | ... O8: =SUM(O4:O7) -> 0 | Q8: =SUM(Q4:Q7) -> 0 | R8: =SUM(R4:R7) -> 4505000
A9: Existing Improvements Value | B9: =SUM(C9+D9) -> 0 | R9: =SUM(E9:Q9) -> 0
A10: Off-Site Improvements | B10: =SUM(C10+D10) -> 95236 | C10: 95236 | E10: 95236 | R10: =SUM(E10:Q10) -> 95236 | S10: 95236
A11: Total Acquisition Cost | B11: =SUM(C11:D11) -> 95236 | C11: =SUM(C9:C10) -> 95236 | D11: =SUM(D9:D10) -> 0 | E11: =SUM(E9:E10) -> 95236 | F11: =SUM(F9:F10) -> 0 | G11: =SUM(G9:G10) -> 0 | H11: =SUM(H9:H10) -> 0 | I11: =SUM(I9:I10) -> 0 | J11: =SUM(J9:J10) -> 0 | ... O11: =SUM(O9:O10) -> 0 | Q11: =SUM(Q9:Q10) -> 0 | R11: =SUM(R9:R10) -> 95236 | T11: =SUM(T9:T10) -> 0
A12: Total Land Cost / Acquisition Cost | B12: =SUM(B8+B11) -> 4600236 | C12: =SUM(C8+C11) -> 4600236 | D12: =SUM(D8+D11) -> 0 | E12: =SUM(E8+E11) -> 4600236 | F12: =SUM(F8+F11) -> 0 | G12: =SUM(G8+G11) -> 0 | H12: =SUM(H8+H11) -> 0 | I12: =SUM(I8+I11) -> 0 | ... O12: =SUM(O8+O11) -> 0 | Q12: =SUM(Q8+Q11) -> 0 | R12: =SUM(R8+R11) -> 4600236
A13: Predevelopment Interest/Holding Cost | B13: =SUM(C13+D13) -> 0 | R13: =SUM(E13:Q13) -> 0
A14: Assumed, Accrued Interest on Existing Debt (Rehabilitation/Acquisition) | B14: =SUM(C14+D14) -> 0 | R14: =SUM(E14:Q14) -> 0
A15: Excess Purchase Price Over Appraisal | B15: =SUM(C15+D15) -> 0 | R15: =SUM(E15:Q15) -> 0
A16: REHABILITATION
A17: Site Work | B17: =SUM(C17+D17) -> 0 | R17: =SUM(E17:Q17) -> 0
A18: Structures | B18: =SUM(C18+D18) -> 0 | R18: =SUM(E18:Q18) -> 0
A19: General Requirements | B19: =SUM(C19+D19) -> 0 | R19: =SUM(E19:Q19) -> 0
A20: Contractor Overhead | B20: =SUM(C20+D20) -> 0 | R20: =SUM(E20:Q20) -> 0
A21: Contractor Profit | B21: =SUM(C21+D21) -> 0 | R21: =SUM(E21:Q21) -> 0
A22: Prevailing Wages | B22: =SUM(C22+D22) -> 0 | R22: =SUM(E22:Q22) -> 0
A23: General Liability Insurance | B23: =SUM(C23+D23) -> 0 | R23: =SUM(E23:Q23) -> 0
A24: Third-party Construction Management | B24: =SUM(C24+D24) -> 0 | R24: =SUM(E24:Q24) -> 0
A25: Other: (Specify) | B25: =SUM(C25+D25) -> 0 | R25: =SUM(E25:Q25) -> 0
A26: Total Rehabilitation Costs | B26: =SUM(C26+D26) -> 0 | C26: =SUM(C17:C25) -> 0 | D26: =SUM(D17:D25) -> 0 | E26: =SUM(E17:E25) -> 0 | F26: =SUM(F17:F25) -> 0 | G26: =SUM(G17:G25) -> 0 | H26: =SUM(H17:H25) -> 0 | I26: =SUM(I17:I25) -> 0 | J26: =SUM(J17:J25) -> 0 | ... T26: =SUM(T17:T25) -> 0
A27: Total Relocation Expenses | B27: =SUM(C27:D27) -> 0 | R27: =SUM(E27:Q27) -> 0
A28: NEW CONSTRUCTION
A29: Site Work | B29: =SUM(C29+D29) -> 1944000 | C29: 1944000 | F29: 1944000 | R29: =SUM(E29:Q29) -> 1944000 | S29: 1944000
A30: Structures | B30: =SUM(C30+D30) -> 25804998 | C30: 25804998 | F30: 17556000 | G30: 8248998 | R30: =SUM(E30:Q30) -> 25804998 | S30: 25804998
A31: General Requirements | B31: =SUM(C31+D31) -> 1670654 | C31: 1670654 | G31: 1670654 | R31: =SUM(E31:Q31) -> 1670654 | S31: 1670654
A32: Contractor Overhead | B32: =SUM(C32+D32) -> 590298 | C32: 590298 | G32: 590298 | R32: =SUM(E32:Q32) -> 590298 | S32: 590298
A33: Contractor Profit | B33: =SUM(C33+D33) -> 1770893 | C33: 1770893 | E33: 280843 | G33: 1490050 | R33: =SUM(E33:Q33) -> 1770893 | S33: 1770893
A34: Prevailing Wages | B34: =SUM(C34+D34) -> 0 | R34: =SUM(E34:Q34) -> 0
A35: General Liability Insurance | B35: =SUM(C35+D35) -> 0 | R35: =SUM(E35:Q35) -> 0
A36: Third-party Construction Management | B36: =SUM(C36+D36) -> 0 | R36: =SUM(E36:Q36) -> 0
A37: Other: (Specify) | B37: =SUM(C37+D37) -> 0 | R37: =SUM(E37:Q37) -> 0
A38: Total New Construction Costs | B38: =SUM(C38+D38) -> 31780843 | C38: =SUM(C29:C37) -> 31780843 | D38: =SUM(D29:D37) -> 0 | E38: =SUM(E29:E37) -> 280843 | F38: =SUM(F29:F37) -> 19500000 | G38: =SUM(G29:G37) -> 12000000 | H38: =SUM(H29:H37) -> 0 | I38: =SUM(I29:I37) -> 0 | J38: =SUM(J29:J37) -> 0 | ... T38: =SUM(T29:T37) -> 0
A39: ARCHITECTURAL FEES
A40: Design | B40: =SUM(C40+D40) -> 600000 | C40: 600000 | E40: 600000 | R40: =SUM(E40:Q40) -> 600000 | S40: 600000
...

Sheet Sources and Basis Breakdown
A1: IV. SOURCES AND USES BUDGET - SECTION 2: SOURCES AND BASIS BREAKDOWN BY DDA/QCT AND NON-DDA/NON-QCT
B2: TOTAL RESIDENTIAL COST | C2: DDA/QCT Building(s) COST | D2: NON-DDA/ NON-QCT Building(s) COST | E2: TOTAL 30% PVC for New Const/ Rehabilitation | F2: 30% PVC for New Const/ Rehabilitation DDA/QCT Building(s) | G2: 30% PVC for New Const/ Rehabilitation NON-DDA/ NON-QCT Building(s) | H2: TOTAL 30% PVC for Acquisition | I2: 30% PVC for Acquisition DDA/QCT Building(s) | J2: 30% PVC for Acquisition NON-DDA/ NON-QCT Building(s)
A3: LAND COST/ACQUISITION
A4: Land Cost or Value | B4: ='Sources and Uses Budget'!C4 -> 4500000
A5: Demolition | B5: ='Sources and Uses Budget'!C5 -> 0
A6: Legal | B6: ='Sources and Uses Budget'!C6 -> 5000
A7: Land Lease Rent Prepayment | B7: ='Sources and Uses Budget'!C7 -> 0
A8: Total Land Cost or Value | B8: ='Sources and Uses Budget'!C8 -> 4505000 | C8: =SUM(C4:C7) -> 0 | D8: =SUM(D4:D7) -> 0
A9: Existing Improvements Value | B9: ='Sources and Uses Budget'!C9 -> 0 | H9: ='Sources and Uses Budget'!T9 -> 0
A10: Off-Site Improvements | B10: ='Sources and Uses Budget'!C10 -> 95236 | E10: ='Sources and Uses Budget'!S10 -> 95236 | H10: ='Sources and Uses Budget'!T10 -> 0
A11: Total Acquisition Cost | B11: ='Sources and Uses Budget'!C11 -> 95236 | C11: =SUM(C9:C10) -> 0 | D11: =SUM(D9:D10) -> 0 | H11: ='Sources and Uses Budget'!T11 -> 0 | I11: =SUM(I9:I10) -> 0 | J11: =SUM(J9:J10) -> 0
A12: Total Land Cost / Acquisition Cost | B12: ='Sources and Uses Budget'!C12 -> 4600236 | C12: =SUM(C8+C11) -> 0 | D12: =SUM(D8+D11) -> 0
A13: Predevelopment Interest/Holding Cost | B13: ='Sources and Uses Budget'!C13 -> 0 | E13: ='Sources and Uses Budget'!S13 -> 0 | H13: ='Sources and Uses Budget'!T13 -> 0
A14: Assumed, Accrued Interest on Existing Debt (Rehab/Acq) | B14: ='Sources and Uses Budget'!C14 -> 0 | E14: ='Sources and Uses Budget'!S14 -> 0 | H14: ='Sources and Uses Budget'!T14 -> 0
A15: Excess Purchase Price Over Appraisal | B15: ='Sources and Uses Budget'!C15 -> 0 | E15: ='Sources and Uses Budget'!S15 -> 0 | H15: ='Sources and Uses Budget'!T15 -> 0
A16: REHABILITATION
A17: Site Work | B17: ='Sources and Uses Budget'!C17 -> 0 | E17: ='Sources and Uses Budget'!S17 -> 0 | H17: ='Sources and Uses Budget'!T17 -> 0
A18: Structures | B18: ='Sources and Uses Budget'!C18 -> 0 | E18: ='Sources and Uses Budget'!S18 -> 0 | H18: ='Sources and Uses Budget'!T18 -> 0
A19: General Requirements | B19: ='Sources and Uses Budget'!C19 -> 0 | E19: ='Sources and Uses Budget'!S19 -> 0 | H19: ='Sources and Uses Budget'!T19 -> 0
A20: Contractor Overhead | B20: ='Sources and Uses Budget'!C20 -> 0 | E20: ='Sources and Uses Budget'!S20 -> 0 | H20: ='Sources and Uses Budget'!T20 -> 0
A21: Contractor Profit | B21: ='Sources and Uses Budget'!C21 -> 0 | E21: ='Sources and Uses Budget'!S21 -> 0 | H21: ='Sources and Uses Budget'!T21 -> 0
A22: Prevailing Wages | B22: ='Sources and Uses Budget'!C22 -> 0 | E22: ='Sources and Uses Budget'!S22 -> 0 | H22: ='Sources and Uses Budget'!T22 -> 0
A23: General Liability Insurance | B23: ='Sources and Uses Budget'!C23 -> 0 | E23: ='Sources and Uses Budget'!S23 -> 0 | H23: ='Sources and Uses Budget'!T23 -> 0
A24: Third-party Construction Management | B24: ='Sources and Uses Budget'!C24 -> 0 | E24: ='Sources and Uses Budget'!S24 -> 0 | H24: ='Sources and Uses Budget'!T24 -> 0
A25: ='Sources and Uses Budget'!$A25 -> Other: (Specify) | B25: ='Sources and Uses Budget'!C25 -> 0 | E25: ='Sources and Uses Budget'!S25 -> 0 | H25: ='Sources and Uses Budget'!T25 -> 0
A26: Total Rehabilitation Costs | B26: ='Sources and Uses Budget'!C26 -> 0 | C26: =SUM(C17:C25) -> 0 | D26: =SUM(D17:D25) -> 0 | E26: ='Sources and Uses Budget'!S26 -> 0 | F26: =SUM(F17:F25) -> 0 | G26: =SUM(G17:G25) -> 0 | H26: ='Sources and Uses Budget'!T26 -> 0 | I26: =SUM(I17:I25) -> 0 | J26: =SUM(J17:J25) -> 0
A27: Total Relocation Expenses | B27: ='Sources and Uses Budget'!C27 -> 0 | E27: ='Sources and Uses Budget'!S27 -> 0 | H27: ='Sources and Uses Budget'!T27 -> 0
A28: NEW CONSTRUCTION
A29: Site Work | B29: ='Sources and Uses Budget'!C29 -> 1944000 | E29: ='Sources and Uses Budget'!S29 -> 1944000 | H29: ='Sources and Uses Budget'!T29 -> 0
A30: Structures | B30: ='Sources and Uses Budget'!C30 -> 25804998 | E30: ='Sources and Uses Budget'!S30 -> 25804998 | H30: ='Sources and Uses Budget'!T30 -> 0
A31: General Requirements | B31: ='Sources and Uses Budget'!C31 -> 1670654 | E31: ='Sources and Uses Budget'!S31 -> 1670654 | H31: ='Sources and Uses Budget'!T31 -> 0
A32: Contractor Overhead | B32: ='Sources and Uses Budget'!C32 -> 590298 | E32: ='Sources and Uses Budget'!S32 -> 590298 | H32: ='Sources and Uses Budget'!T32 -> 0
A33: Contractor Profit | B33: ='Sources and Uses Budget'!C33 -> 1770893 | E33: ='Sources and Uses Budget'!S33 -> 1770893 | H33: ='Sources and Uses Budget'!T33 -> 0
A34: Prevailing Wages | B34: ='Sources and Uses Budget'!C34 -> 0 | E34: ='Sources and Uses Budget'!S34 -> 0 | H34: ='Sources and Uses Budget'!T34 -> 0
A35: General Liability Insurance | B35: ='Sources and Uses Budget'!C35 -> 0 | E35: ='Sources and Uses Budget'!S35 -> 0 | H35: ='Sources and Uses Budget'!T35 -> 0
A36: Third-party Construction Management | B36: ='Sources and Uses Budget'!C36 -> 0 | E36: ='Sources and Uses Budget'!S36 -> 0 | H36: ='Sources and Uses Budget'!T36 -> 0
A37: ='Sources and Uses Budget'!$A37 -> Other: (Specify) | B37: ='Sources and Uses Budget'!C37 -> 0 | E37: ='Sources and Uses Budget'!S37 -> 0 | H37: ='Sources and Uses Budget'!T37 -> 0
A38: Total New Construction Costs | B38: ='Sources and Uses Budget'!C38 -> 31780843 | C38: =SUM(C29:C37) -> 0 | D38: =SUM(D29:D37) -> 0 | E38: ='Sources and Uses Budget'!S38 -> 31780843 | F38: =SUM(F29:F37) -> 0 | G38: =SUM(G29:G37) -> 0 | H38: ='Sources and Uses Budget'!T38 -> 0 | I38: =SUM(I29:I37) -> 0 | J38: =SUM(J29:J37) -> 0
A39: ARCHITECTURAL FEES
A40: Design | B40: ='Sources and Uses Budget'!C40 -> 600000 | E40: ='Sources and Uses Budget'!S40 -> 600000 | H40: ='Sources and Uses Budget'!T40 -> 0
...

Sheet CalHFA Addendum
A1: CalHFA Application Addendum to CTCAC Application Workbook
A2: All yellow cells in this addendum must be completed, if applicable.
AX3: AMI Band | BB3: Percent
B4: Project Name | L4: =IF(Application!H18="","",Application!H18) -> Euclid Avenue Apartments | AF4: Projected Date for Final Plans: | AX4: 30 AMI | BB4: {=ROUNDDOWN(SUM(IF((B19:I27>0)*(B19:I27<=30%),J19:O27,0))/J29,2)} -> 0.1
AF5: Projected Date for Design: | AX5: 50 AMI | BB5: {=ROUNDDOWN(SUM(IF((B19:I27>0%)*(B19:I27<=50%),J19:O27,0))/J29,2)} -> 0.2
B6: Sponsor/Developer Name | L6: =IF(Application!H16="","",Application!H16) -> National City Pacific Associates II, LP | AF6: Number of Building Stories: | AX6: 70 to 80 AMI | BB6: {=ROUNDDOWN(SUM(IF((B19:I27>60%)*(B19:I27<=80%),J19:O27,0))/J29,2)} -> 0.39
AF7: Number of Elevators:
B8: Will this project be scattered site? (Defined by CDLAC, Article 1, Section 5100) | AB8: =Application!T197 -> No | AF8: Construction Type: | AP8: New Construction | BM8: Construction Type
AF9: Estimated Completion Date | BM9: Acquisition only
B10: CalHFA Permanent Loan Amount | N10: =Application!AO635 -> 19500000 | AF10: Estimated Lease Up Start Date | BM10: Acquisition/Rehab
B11: CalHFA MIP Loan Amount* | N11: =Application!AA943 -> 0 | AF11: Estimated 90% Occupancy Date | BM11: New Construction
BM12: New Construction/Rehab
B13: Did the project obtain entitlement via SB35? | Q13: No | AA13: # ADA Units: | AO13: =Application!W481 -> 17 | BM13: Existing/Rehab
AA14: CalHFA Application Initial/Update Submission Date:
B15: Senior Housing Age Restriction: | S15: =IF(Application!AB215="","",Application!AB215) | AA15: CTCAC Application Submission Date:
B17: Rent Limit Summary Table
B18: Restriction @ AMI | J18: Total | P18: SRO/Studio | V18: 1 Bedroom | AB18: 2 Bedrooms | AH18: 3 Bedrooms | AN18: 4 Bedrooms | AT18: % of Total
B19: 0.3 | J19: =SUM(P19:AS19) -> 11 | P19: {=SUMPRODUCT((Application!$B$726:$B$760 = 'CalHFA Addendum'!P$18)*(Application!$AC$726:$AC$760 = 'CalHFA Addendum'!$B19),Application!$G$726:$G$760)} -> 2 | V19: {=SUMPRODUCT((Application!$B$726:$B$760 = 'CalHFA Addendum'!V$18)*(Application!$AC$726:$AC$760 = 'CalHFA Addendum'!$B19),Application!$G$726:$G$760)} -> 8 | AB19: {=SUMPRODUCT((Application!$B$726:$B$760 = 'CalHFA Addendum'!AB$18)*(Application!$AC$726:$AC$760 = 'CalHFA Addendum'!$B19),Application!$G$726:$G$760)} -> 1 | AH19: {=SUMPRODUCT((Application!$B$726:$B$760 = 'CalHFA Addendum'!AH$18)*(Application!$AC$726:$AC$760 = 'CalHFA Addendum'!$B19),Application!$G$726:$G$760)} -> 0 | AN19: {=SUMPRODUCT((Application!$B$726:$B$760 = 'CalHFA Addendum'!AN$18)*(Application!$AC$726:$AC$760 = 'CalHFA Addendum'!$B19),Application!$G$726:$G$760)} -> 0 | AT19: =J19/$J$29 -> 0.10185185
B20: 0.4 | J20: =SUM(P20:AS20) -> 0 | P20: {=SUMPRODUCT((Application!$B$726:$B$760 = 'CalHFA Addendum'!P$18)*(Application!$AC$726:$AC$760 = 'CalHFA Addendum'!$B20),Application!$G$726:$G$760)} -> 0 | V20: {=SUMPRODUCT((Application!$B$726:$B$760 = 'CalHFA Addendum'!V$18)*(Application!$AC$726:$AC$760 = 'CalHFA Addendum'!$B20),Application!$G$726:$G$760)} -> 0 | AB20: {=SUMPRODUCT((Application!$B$726:$B$760 = 'CalHFA Addendum'!AB$18)*(Application!$AC$726:$AC$760 = 'CalHFA Addendum'!$B20),Application!$G$726:$G$760)} -> 0 | AH20: {=SUMPRODUCT((Application!$B$726:$B$760 = 'CalHFA Addendum'!AH$18)*(Application!$AC$726:$AC$760 = 'CalHFA Addendum'!$B20),Application!$G$726:$G$760)} -> 0 | AN20: {=SUMPRODUCT((Application!$B$726:$B$760 = 'CalHFA Addendum'!AN$18)*(Application!$AC$726:$AC$760 = 'CalHFA Addendum'!$B20),Application!$G$726:$G$760)} -> 0 | AT20: =J20/$J$29 -> 0
B21: 0.5 | J21: =SUM(P21:AS21) -> 11 | P21: {=SUMPRODUCT((Application!$B$726:$B$760 = 'CalHFA Addendum'!P$18)*(Application!$AC$726:$AC$760 = 'CalHFA Addendum'!$B21),Application!$G$726:$G$760)} -> 2 | V21: {=SUMPRODUCT((Application!$B$726:$B$760 = 'CalHFA Addendum'!V$18)*(Application!$AC$726:$AC$760 = 'CalHFA Addendum'!$B21),Application!$G$726:$G$760)} -> 8 | AB21: {=SUMPRODUCT((Application!$B$726:$B$760 = 'CalHFA Addendum'!AB$18)*(Application!$AC$726:$AC$760 = 'CalHFA Addendum'!$B21),Application!$G$726:$G$760)} -> 1 | AH21: {=SUMPRODUCT((Application!$B$726:$B$760 = 'CalHFA Addendum'!AH$18)*(Application!$AC$726:$AC$760 = 'CalHFA Addendum'!$B21),Application!$G$726:$G$760)} -> 0 | AN21: {=SUMPRODUCT((Application!$B$726:$B$760 = 'CalHFA Addendum'!AN$18)*(Application!$AC$726:$AC$760 = 'CalHFA Addendum'!$B21),Application!$G$726:$G$760)} -> 0 | AT21: =J21/$J$29 -> 0.10185185
B22: 0.6 | J22: =SUM(P22:AS22) -> 42 | P22: {=SUMPRODUCT((Application!$B$726:$B$760 = 'CalHFA Addendum'!P$18)*(Application!$AC$726:$AC$760 = 'CalHFA Addendum'!$B22),Application!$G$726:$G$760)} -> 4 | V22: {=SUMPRODUCT((Application!$B$726:$B$760 = 'CalHFA Addendum'!V$18)*(Application!$AC$726:$AC$760 = 'CalHFA Addendum'!$B22),Application!$G$726:$G$760)} -> 35 | AB22: {=SUMPRODUCT((Application!$B$726:$B$760 = 'CalHFA Addendum'!AB$18)*(Application!$AC$726:$AC$760 = 'CalHFA Addendum'!$B22),Application!$G$726:$G$760)} -> 3 | AH22: {=SUMPRODUCT((Application!$B$726:$B$760 = 'CalHFA Addendum'!AH$18)*(Application!$AC$726:$AC$760 = 'CalHFA Addendum'!$B22),Application!$G$726:$G$760)} -> 0 | AN22: {=SUMPRODUCT((Application!$B$726:$B$760 = 'CalHFA Addendum'!AN$18)*(Application!$AC$726:$AC$760 = 'CalHFA Addendum'!$B22),Application!$G$726:$G$760)} -> 0 | AT22: =J22/$J$29 -> 0.38888889
B23: 0.7 | J23: =SUM(P23:AS23) -> 43 | P23: {=SUMPRODUCT((Application!$B$726:$B$760 = 'CalHFA Addendum'!P$18)*(Application!$AC$726:$AC$760 = 'CalHFA Addendum'!$B23),Application!$G$726:$G$760)} -> 5 | V23: {=SUMPRODUCT((Application!$B$726:$B$760 = 'CalHFA Addendum'!V$18)*(Application!$AC$726:$AC$760 = 'CalHFA Addendum'!$B23),Application!$G$726:$G$760)} -> 14 | AB23: {=SUMPRODUCT((Application!$B$726:$B$760 = 'CalHFA Addendum'!AB$18)*(Application!$AC$726:$AC$760 = 'CalHFA Addendum'!$B23),Application!$G$726:$G$760)} -> 24 | AH23: {=SUMPRODUCT((Application!$B$726:$B$760 = 'CalHFA Addendum'!AH$18)*(Application!$AC$726:$AC$760 = 'CalHFA Addendum'!$B23),Application!$G$726:$G$760)} -> 0 | AN23: {=SUMPRODUCT((Application!$B$726:$B$760 = 'CalHFA Addendum'!AN$18)*(Application!$AC$726:$AC$760 = 'CalHFA Addendum'!$B23),Application!$G$726:$G$760)} -> 0 | AT23: =J23/$J$29 -> 0.39814815
B24: 0.8 | J24: =SUM(P24:AS24) -> 0 | P24: {=SUMPRODUCT((Application!$B$726:$B$760 = 'CalHFA Addendum'!P$18)*(Application!$AC$726:$AC$760 = 'CalHFA Addendum'!$B24),Application!$G$726:$G$760)} -> 0 | V24: {=SUMPRODUCT((Application!$B$726:$B$760 = 'CalHFA Addendum'!V$18)*(Application!$AC$726:$AC$760 = 'CalHFA Addendum'!$B24),Application!$G$726:$G$760)} -> 0 | AB24: {=SUMPRODUCT((Application!$B$726:$B$760 = 'CalHFA Addendum'!AB$18)*(Application!$AC$726:$AC$760 = 'CalHFA Addendum'!$B24),Application!$G$726:$G$760)} -> 0 | AH24: {=SUMPRODUCT((Application!$B$726:$B$760 = 'CalHFA Addendum'!AH$18)*(Application!$AC$726:$AC$760 = 'CalHFA Addendum'!$B24),Application!$G$726:$G$760)} -> 0 | AN24: {=SUMPRODUCT((Application!$B$726:$B$760 = 'CalHFA Addendum'!AN$18)*(Application!$AC$726:$AC$760 = 'CalHFA Addendum'!$B24),Application!$G$726:$G$760)} -> 0 | AT24: =J24/$J$29 -> 0
B25: 0.9 | AT25: =J25/$J$29 -> 0
B26: 1 | AT26: =J26/$J$29 -> 0
B27: 1.2 | AT27: =J27/$J$29 -> 0
B28: Manager's Unit | J28: =SUM(P28:AS28) -> 1 | P28: =_xlfn.IFNA(VLOOKUP(P$18,Application!$J$781:$S$784,6,FALSE), 0) -> 0 | V28: =_xlfn.IFNA(VLOOKUP(V$18,Application!$J$781:$S$784,6,FALSE), 0) -> 0 | AB28: =_xlfn.IFNA(VLOOKUP(AB$18,Application!$J$781:$S$784,6,FALSE), 0) -> 1 | AH28: =_xlfn.IFNA(VLOOKUP(AH$18,Application!$J$781:$S$784,6,FALSE), 0) -> 0 | AN28: =_xlfn.IFNA(VLOOKUP(AN$18,Application!$J$781:$S$784,6,FALSE), 0) -> 0 | AT28: =J28/$J$29 -> 0.0092592593
B29: Total | J29: =SUM(J19:O28) -> 108 | P29: =SUM(P19:U28) -> 13 | V29: =SUM(V19:AA28) -> 65 | AB29: =SUM(AB19:AG28) -> 30 | AH29: =SUM(AH19:AM28) -> 0 | AN29: =SUM(AN19:AS28) -> 0 | AT29: =J29/$J$29 -> 1
B31: NUMBER OF UNITS AND AMI RENTS RESTRICTED BY EACH AGENCY
B32: *Regulatory Source (Type in Lender Names) | J32: Recordation (lien) Priority if Recorded Document | N32: Term of Agreement (years) | R32: Number of Units Restricted For Each AMI Category
R33: (enter various AMI%'s in each columns yellow field, then show the number of regulated units for each AMI, by Source)
R35: 0.3 | V35: 0.4 | Z35: 0.5 | AD35: 0.6 | AH35: 0.7 | AL35: 0.8 | AP35: 1.2 | AS35: Total Regulated | AY35: % Regulated
B36: CalHFA Bond | J36: 1st | N36: 55 | AS36: =SUM(R36:AR36) -> 0 | AY36: =AS36/$J$29 -> 0
B37: CalHFA MIP | J37: 2nd | N37: 55 | AS37: =SUM(R37:AR37) -> 0 | AY37: =AS37/$J$29 -> 0
B38: CTCAC | J38: 3rd | N38: 55 | AS38: =SUM(R38:AR38) -> 0 | AY38: =AS38/$J$29 -> 0
B39: City [Add Funding Type] | AS39: =SUM(R39:AR39) -> 0 | AY39: =AS39/$J$29 -> 0
B40: City [Add Funding Type] | AS40: =SUM(R40:AR40) -> 0 | AY40: =AS40/$J$29 -> 0
B41: County [Add Funding Type] | AS41: =SUM(R41:AR41) -> 0 | AY41: =AS41/$J$29 -> 0
B42: County [Add Funding Type] | AS42: =SUM(R42:AR42) -> 0 | AY42: =AS42/$J$29 -> 0
B43: HAP Use Agreement | AS43: =SUM(R43:AR43) -> 0 | AY43: =AS43/$J$29 -> 0
...

Sheet Basis & Credits
A1: V. BASIS AND CREDITS : 4% FEDERAL AND STATE CREDIT
A3: =+A1 -> V. BASIS AND CREDITS : 4% FEDERAL AND STATE CREDIT
A5: A. | C5: Determination of Eligible and Qualified Basis
C6: Projects w/ building(s) located in DDA/QCT areas & Non-DDA/Non-QCT areas, bifurcate accordingly.
T7: =IF(T25=100%,'Sources and Basis Breakdown'!G2,'Sources and Basis Breakdown'!F2) -> 30% PVC for New Const/ Rehabilitation DDA/QCT Building(s) | Y7: =IF(T25=100%,"",'Sources and Basis Breakdown'!G2) -> 30% PVC for New Const/ Rehabilitation NON-DDA/ NON-QCT Building(s) | AD7: =IF(T25=100%, 'Sources and Basis Breakdown'!J2,'Sources and Basis Breakdown'!I2) -> 30% PVC for Acquisition DDA/QCT Building(s) | AI7: =IF(T25=100%,"",'Sources and Basis Breakdown'!J2) -> 30% PVC for Acquisition NON-DDA/ NON-QCT Building(s)
B11: Total Eligible Basis: | T11: =IF('Sources and Basis Breakdown'!F107=0,'Sources and Basis Breakdown'!E107,'Sources and Basis Breakdown'!F107) -> 49855828 | Y11: =IF(Y7="",0,IF('Sources and Basis Breakdown'!G107+'Sources and Basis Breakdown'!F107='Sources and Basis Breakdown'!E107,'Sources and Basis Breakdown'!G107,0)) -> 0 | AD11: =IF('Sources and Basis Breakdown'!I107=0,'Sources and Basis Breakdown'!H107,'Sources and Basis Breakdown'!I107) -> 0 | AI11: =IF(Y7="",0,IF('Sources and Basis Breakdown'!I107+'Sources and Basis Breakdown'!J107='Sources and Basis Breakdown'!H107,'Sources and Basis Breakdown'!J107,0)) -> 0
B12: Ineligible Amounts
C13: Subtract All Grant Proceeds Used to Finance Costs in Eligible Basis:
C14: Subtract Non-Qualified Non-Recourse Financing:
C15: Subtract Non-Qualifying Portion of Higher Quality Units:
C16: Subtract Photovoltaic Credit (as applicable):
C17: Subtract Historic Credit (residential portion only):
C18: Subtract (specify other ineligible amounts):
C19: Subtract (specify other ineligible amounts):
B20: Total Ineligible Amounts: | T20: =SUM(T13:X19) -> 0 | Y20: =SUM(Y13:AC19) -> 0 | AD20: =SUM(AD13:AH19) -> 0 | AI20: =SUM(AI13:AM19) -> 0
B21: *Total Eligible Basis Amount Voluntarily Excluded:
B22: Total Basis Reduction: | T22: =(ABS(T20)+ABS(T21))*-1 -> 0 | Y22: =(Y20+Y21)*-1 -> 0 | AD22: =(AD20)*-1 -> 0 | AI22: =(AI20)*-1 -> 0
B23: Total Requested Unadjusted Eligible Basis: | T23: =T11+T22 -> 49855828 | Y23: =Y11+Y22 -> 0 | AD23: =AD11+AD22 -> 0 | AI23: =AI11+AI22 -> 0
B24: Total Adjusted Threshold Basis Limit: | T24: =Application!AJ1062 -> 78608551
B25: **QCT or DDA Adjustment: | T25: =IF(OR(Application!T196="yes",Application!T195="yes"),1.3,1) -> 1.3 | Y25: 1 | AD25: 1 | AI25: 1
B26: Total Adjusted Eligible Basis: | T26: =T23*T25 -> 64812576 | Y26: =Y23*Y25 -> 0 | AD26: =AD23*AD25 -> 0 | AI26: =AI23*AI25 -> 0
B27: Applicable Fraction: | T27: =Application!$AG$454 -> 1 | Y27: =Application!$AG$454 -> 1 | AD27: =Application!$AG$454 -> 1 | AI27: =Application!$AG$454 -> 1
B28: Qualified Basis: | T28: =IF(ISERROR((T26*T27)),0,(T26*T27)) -> 64812576 | Y28: =IF(ISERROR((Y26*Y27)),0,(Y26*Y27)) -> 0 | AD28: =IF(ISERROR((AD26*AD27)),0,(AD26*AD27)) -> 0 | AI28: =IF(ISERROR((AI26*AI27)),0,(AI26*AI27)) -> 0
B29: Total Qualified Basis: | T29: =T28+Y28+AD28+AI28 -> 64812576
B30: *Voluntary exclusions of eligible basis should be made from rehabilitation eligible basis.
B31: **130% boost if the building(s) is/are located in a DDA or QCT, or Reg. Section 10317(d) as applicable.
C32: (Boost is auto calculated from your selection in: II. APPLICATION - SECTION 2: GENERAL AND SUMMARY INFORMATION - B)
A34: B. | C34: Determination of Federal Credit
Y35: New Const/ Rehab | AD35: Acquisition
B38: Qualified Basis: | Y38: =IF(T24>=(T23+Y23+AD23+AI23),T28+Y28,0) -> 64812576 | AD38: =IF(T24>=(T23+Y23+AD23+AI23),AD28+AI28,0) -> 0
B39: Applicable Percentage: | Y39: 0.04 | AD39: 0.04
B40: Subtotal Annual Federal Credit: | Y40: =ROUND(Y38*Y39,0) -> 2592503 | AD40: =ROUND(AD38*AD39,0) -> 0
B41: Total Combined Annual Federal Credit: | Y41: =Y40+AD40 -> 2592503
A44: Federal Credit
A46: C. | C46: Determination of Minimum Federal Credit Necessary For Feasibility
D47: Total Project Cost | AB47: ='Sources and Uses Budget'!B105-MAX(IF('Sources and Uses Budget'!B15="",0,'Sources and Uses Budget'!B15),IF(Application!AG403="",0,Application!AG403)) -> 55906573
D48: Permanent Financing | AB48: =Application!AO647-MAX(IF('Sources and Uses Budget'!B15="",0,'Sources and Uses Budget'!B15),IF(Application!AG403="",0,Application!AG403)) -> 35168623
D49: Funding Gap | AB49: =AB47-AB48 -> 20737950
D50: Federal Tax Credit Factor | AB50: 0.79992
E51: Federal tax credit factor must be at least $1.00 for self-syndication projects or at least $0.75 for all other projects.
...

Sheet Points System
A1: CDLAC POINTS SYSTEM
A4: a. | B4: The following criteria will be used to evaluate and rank all Qualified Residential Rental Project applications.
A7: b. | B7: Acquisition/Rehabilitation Project Priorities | AE7: Maximum 20 Points
B9: 1. A project meeting all of the following criteria shall receive 10 points:
B11: N/A | E11: The project does not result in a distribution of net project equity, as that term is defined in Section 10302(gg) of the CTCAC Regulations, to a general partner or a related party to the general partner. (There may be a buyout of a limited partner or equity distributed to a third party seller);
B15: N/A | E15: There is no partial or full repayment of existing soft financing, except for loans less than or equal to the greater of $500,000 or 1.5% of the project’s total development costs or for temporary repayments that will be restored in the permanent financing; and
B19: N/A | E19: The application’s developer fee limit pursuant to CTCAC Regulation Section 10327(c)(2) is further limited to a cash-out developer fee no greater than 80% of the CTCAC cash-out developer fee limit.
AO20: =IF(AND(B11="Yes",B15="Yes",B19="Yes"),10,0) -> 0 | AP20: points
B22: 2. Select One Option
C24: (A) A project that meets the following shall receive 20 points:
B26: N/A | E26: At Risk Project | AO26: =IF($B26="yes",20,0) -> 0 | AP26: points
C28: (B) A project that meets at least one of the following shall receive 9 points:
B30: N/A | E30: (i) A replacement or rehabilitation project approved by HUD pursuant to a Section 18 or 22 Demolition/Disposition authorization. | AO30: =IF($B30="yes",9,0) -> 0
AO31: =IF($B33="yes",9,0) -> 0
AO32: =IF($B37="yes",9,0) -> 0
B33: N/A | E33: (ii) A project being rehabilitated under the HUD Rental Assistance Demonstration (RAD) Program, or a rehabilitation project that has received a new Section 515 loan from the United States Department of Agriculture; | AO33: =IF($B39="yes",9,0) -> 0
AO34: =MAX(AO30,AO31,AO32,AO33) -> 0 | AP34: points
B37: N/A | E37: (iii) A project that received an award from HCD’s Portfolio Reinvestment Program; or
B39: N/A | E39: (iv) A project with a pre-1999 HCD loan.
C41: (C) A project that meets at least one of the following shall receive 8 points:
B43: N/A | E43: (i) A project with at least $120,000 in hard construction costs per tax credit unit and is replacing at least two major building systems; or | AO43: =IF($B43="yes",8,0) -> 0
AO44: =IF($B46="yes",8,0) -> 0
AO45: =IF($B49="yes",8,0) -> 0
B46: N/A | E46: (ii) A project applying as an SRO housing type, as defined in Section 10325(g) of the CTCAC regulations, and the rehabilitation will add a bathroom and complete kitchen to each unit. | AO46: =IF($B52="yes",8,0) -> 0
AO47: =MAX(AO43,AO44,AO45,AO46) -> 0 | AP47: points
B49: N/A | E49: (iii) A component one project being rehabilitated under the HUD Rental Assistance Demonstration (RAD) Program
B52: N/A | E52: (iv) A project that received an award from HCD’s Portfolio Reinvestment Program
C54: (D) A project that meets at least one of the following shall receive 7 points:
AO55: =IF($B56="yes",7,0) -> 0
B56: N/A | E56: (i) A project that has previously received an allocation of Low-Income Housing Tax Credits where it has been greater than 20 years from the placed in service date; or | AO56: =IF($B59="yes",7,0) -> 0
AO57: =MAX(AO55:AO56) -> 0 | AP57: points
B59: N/A | E59: (ii) A project that has never received an allocation of Low Income Housing Tax Credits.
AO60: =IF(AO26>0,AO26,SUM(AO20,MAX(AO34,AO47,AO57))) -> 0 | AP60: points
AJ61: Total Points for Acquisition/Rehabilitation Project Priorities: | AK61: =AO60 -> 0
A64: c. General Partner and Management Company Characteristics | B64: New Construction Density and Local Incentives | AE64: Maximum 10 Points
B65: SELECT ONE OPTION (Limited to New Construction Projects and qualifying Adaptive Reuse Projects)
B67: Yes | D67: (1) | E67: The local jurisdiction has approved the project: pursuant to Section 65913.4 of the Government Code; or at a density greater than that allowed by the site's zoning through the use of a density bonus allowed by Government Code Section 65915; or pursuant to a local ordinance, or with concessions and/or waivers granted pursuant to Government Code Section 65915; | AO67: =IF($B67="yes",10,0) -> 10
AO68: =IF(AND($B73="yes",OR(E74="Yes",E75="Yes",E76="Yes")),10,0) -> 0
AO69: =IF($B78="yes",10,0) -> 0
AO70: =IF($B81="yes",10,0) -> 0
...

Sheet Tie Breaker
A1: CDLAC TIE BREAKER
F3: Public Benefit Numerator | H3: =E18 -> 21802198
F4: Cost-Adjusted Bond and State Credit Allocation Denominator | G4: ÷ | H4: =I18 -> 14297868
F5: Tiebreaker | H5: =IFERROR(H3/H4,0) -> 1.5248565
B8: Numerator | G8: Denominator
B9: A. Unit Production Benefit | E9: =G33 -> 5647500 | G9: Bond Request | I9: =MAX(SUMIF(Application!M562:M573,"Loan, Tax-Exempt",Application!AM562:AM573),27.5%*SUM('Sources and Uses Budget'!C8,'Sources and Uses Budget'!S105,'Sources and Uses Budget'!T105)) -> 14949228
B10: B. Rent Savings Benefit | E10: =G47 -> 9948348 | G10: State Credits | I10: =IF(OR(Application!Z205="State Farmworker Credit",Application!Z205="$500M (Farmworker Housing)"),0,'Basis & Credits'!AB78) -> 0
B11: C. Population Benefit | E11: =SUM(E13,E12) -> 220000 | G11: Total Allocations | I11: =I9+I10 -> 14949228
B12: (i) Extremely Low Income Benefit | E12: =G56 -> 220000
B13: (ii) Special Populations Benefit | E13: =IF(G67,MAX(G65,G79),G65) -> 0 | G13: Adjustments
B14: D. Location Benefit | E14: =MAX(E15,E16)+E17 -> 5986350 | G14: Prevailing Wages / Labor | I14: =IF(AND(G134="Yes",G136<>""),IF(OR(G141="Yes",G145="Yes"),18%,15%),0) -> 0
B15: (i) Resource Area Benefit | E15: =G94 -> 0 | G15: Construction Type | I15: =IF(Application!AJ1041>0,10%,IF(Application!AJ1045>0,5%,0)) -> 0.05
B16: (ii) Community Revitalization Benefit | E16: =G104 -> 0 | G16: SWBD * .25 | I16: =G155 -> -0.0064285714
B17: (iii) Transit/Walkability Benefit | E17: =G129 -> 5986350 | G17: Seismic/Environmental | I17: =IF(AND(G161="Yes",G159),IF(G165>15%,15%,G165),0) -> 0
B18: Public Benefit | E18: =SUM(E9:E11,E14) -> 21802198 | G18: Cost-Adjusted Allocation | I18: =I11-((I11*I14)+(I11*I15)+(I11*I16)+(I11*I17)) -> 14297868 | M18: =SUM(Cdlac[Quantity]) -> 107 | O18: County: | P18: =MATCH(Application!T189,Application!CB160:CB217,0) -> 37 | T18: =SUM(Cdlac[Population]) -> 0
L19: Bedrooms | M19: Quantity | N19: iAMI | O19: AMI | P19: Restricted Rent | Q19: Preservation Rent | R19: Fair Market Rent | S19: Delta | T19: Population | U19: Federal
B20: =B9 -> A. Unit Production Benefit | L20: =IFERROR(MIN(4,MATCH(Application!B726,UnitSizes,0)-1),"") -> 0 | M20: =Application!G726 -> 2 | N20: =Application!AC726 -> 0.3 | O20: =IF(Cdlac[[#This Row],[Quantity]]>0,IF(Cdlac[[#This Row],[Federal]],30%,IF(AND(OR(NOT($G$38),$G$38=""),$G$43),40%,Cdlac[[#This Row],[iAMI]])),"") -> 0.3 | P20: {=IF(Cdlac[[#This Row],[Quantity]]>0,INDEX(TcacRents,$P$18,Cdlac[[#This Row],[Bedrooms]]+1)*Cdlac[[#This Row],[AMI]],"")} -> 918.6 | R20: {=IF(Cdlac[[#This Row],[Quantity]]>0,INDEX(HudFmrs,$P$18,Cdlac[[#This Row],[Bedrooms]]+1),"")} -> 2288 | S20: =IF(Cdlac[[#This Row],[Quantity]]>0,MAX(0,Cdlac[[#This Row],[Fair Market Rent]]-IF(AND($G$37,$G$38,$G$38<>"",NOT(Cdlac[[#This Row],[Federal]]),Cdlac[[#This Row],[Preservation Rent]]<>""),Cdlac[[#This Row],[Preservation Rent]],Cdlac[[#This Row],[Restricted Rent]])),"") -> 1369.4 | T20: =IF(Cdlac[[#This Row],[Quantity]]>0,AND(Application!AK726<>"N/A",Application!AK726<>"")*Cdlac[[#This Row],[Quantity]],"") -> 0 | U20: =AND('Subsidy Contract Calculation'!F4>0,OR('Subsidy Contract Calculation'!C4="Federal",'Subsidy Contract Calculation'!C4="Local - Approved by ED"),Cdlac[[#This Row],[Quantity]]>0) -> FALSE
L21: =IFERROR(MIN(4,MATCH(Application!B727,UnitSizes,0)-1),"") -> 0 | M21: =Application!G727 -> 2 | N21: =Application!AC727 -> 0.5 | O21: =IF(Cdlac[[#This Row],[Quantity]]>0,IF(Cdlac[[#This Row],[Federal]],30%,IF(AND(OR(NOT($G$38),$G$38=""),$G$43),40%,Cdlac[[#This Row],[iAMI]])),"") -> 0.5 | P21: {=IF(Cdlac[[#This Row],[Quantity]]>0,INDEX(TcacRents,$P$18,Cdlac[[#This Row],[Bedrooms]]+1)*Cdlac[[#This Row],[AMI]],"")} -> 1531 | R21: {=IF(Cdlac[[#This Row],[Quantity]]>0,INDEX(HudFmrs,$P$18,Cdlac[[#This Row],[Bedrooms]]+1),"")} -> 2288 | S21: =IF(Cdlac[[#This Row],[Quantity]]>0,MAX(0,Cdlac[[#This Row],[Fair Market Rent]]-IF(AND($G$37,$G$38,$G$38<>"",NOT(Cdlac[[#This Row],[Federal]]),Cdlac[[#This Row],[Preservation Rent]]<>""),Cdlac[[#This Row],[Preservation Rent]],Cdlac[[#This Row],[Restricted Rent]])),"") -> 757 | T21: =IF(Cdlac[[#This Row],[Quantity]]>0,AND(Application!AK727<>"N/A",Application!AK727<>"")*Cdlac[[#This Row],[Quantity]],"") -> 0 | U21: =AND('Subsidy Contract Calculation'!F5>0,OR('Subsidy Contract Calculation'!C5="Federal",'Subsidy Contract Calculation'!C5="Local - Approved by ED"),Cdlac[[#This Row],[Quantity]]>0) -> FALSE
C22: Bedroom Count | D22: Adjustment Factor | E22: Actual LI Unit Count | F22: Adjusted Unit Count | G22: Adjusted Units | L22: =IFERROR(MIN(4,MATCH(Application!B728,UnitSizes,0)-1),"") -> 0 | M22: =Application!G728 -> 4 | N22: =Application!AC728 -> 0.6 | O22: =IF(Cdlac[[#This Row],[Quantity]]>0,IF(Cdlac[[#This Row],[Federal]],30%,IF(AND(OR(NOT($G$38),$G$38=""),$G$43),40%,Cdlac[[#This Row],[iAMI]])),"") -> 0.6 | P22: {=IF(Cdlac[[#This Row],[Quantity]]>0,INDEX(TcacRents,$P$18,Cdlac[[#This Row],[Bedrooms]]+1)*Cdlac[[#This Row],[AMI]],"")} -> 1837.2 | R22: {=IF(Cdlac[[#This Row],[Quantity]]>0,INDEX(HudFmrs,$P$18,Cdlac[[#This Row],[Bedrooms]]+1),"")} -> 2288 | S22: =IF(Cdlac[[#This Row],[Quantity]]>0,MAX(0,Cdlac[[#This Row],[Fair Market Rent]]-IF(AND($G$37,$G$38,$G$38<>"",NOT(Cdlac[[#This Row],[Federal]]),Cdlac[[#This Row],[Preservation Rent]]<>""),Cdlac[[#This Row],[Preservation Rent]],Cdlac[[#This Row],[Restricted Rent]])),"") -> 450.8 | T22: =IF(Cdlac[[#This Row],[Quantity]]>0,AND(Application!AK728<>"N/A",Application!AK728<>"")*Cdlac[[#This Row],[Quantity]],"") -> 0 | U22: =AND('Subsidy Contract Calculation'!F6>0,OR('Subsidy Contract Calculation'!C6="Federal",'Subsidy Contract Calculation'!C6="Local - Approved by ED"),Cdlac[[#This Row],[Quantity]]>0) -> FALSE
L23: =IFERROR(MIN(4,MATCH(Application!B729,UnitSizes,0)-1),"") -> 0 | M23: =Application!G729 -> 5 | N23: =Application!AC729 -> 0.7 | O23: =IF(Cdlac[[#This Row],[Quantity]]>0,IF(Cdlac[[#This Row],[Federal]],30%,IF(AND(OR(NOT($G$38),$G$38=""),$G$43),40%,Cdlac[[#This Row],[iAMI]])),"") -> 0.7 | P23: {=IF(Cdlac[[#This Row],[Quantity]]>0,INDEX(TcacRents,$P$18,Cdlac[[#This Row],[Bedrooms]]+1)*Cdlac[[#This Row],[AMI]],"")} -> 2143.4 | R23: {=IF(Cdlac[[#This Row],[Quantity]]>0,INDEX(HudFmrs,$P$18,Cdlac[[#This Row],[Bedrooms]]+1),"")} -> 2288 | S23: =IF(Cdlac[[#This Row],[Quantity]]>0,MAX(0,Cdlac[[#This Row],[Fair Market Rent]]-IF(AND($G$37,$G$38,$G$38<>"",NOT(Cdlac[[#This Row],[Federal]]),Cdlac[[#This Row],[Preservation Rent]]<>""),Cdlac[[#This Row],[Preservation Rent]],Cdlac[[#This Row],[Restricted Rent]])),"") -> 144.6 | T23: =IF(Cdlac[[#This Row],[Quantity]]>0,AND(Application!AK729<>"N/A",Application!AK729<>"")*Cdlac[[#This Row],[Quantity]],"") -> 0 | U23: =AND('Subsidy Contract Calculation'!F7>0,OR('Subsidy Contract Calculation'!C7="Federal",'Subsidy Contract Calculation'!C7="Local - Approved by ED"),Cdlac[[#This Row],[Quantity]]>0) -> FALSE
